BEGIN:VCALENDAR
VERSION:2.0
PRODID:-//1st Kirkbymoorside Scouts - ECPv6.15.20//NONSGML v1.0//EN
CALSCALE:GREGORIAN
METHOD:PUBLISH
X-WR-CALNAME:1st Kirkbymoorside Scouts
X-ORIGINAL-URL:https://1stkirkbymoorsidescouts.org.uk
X-WR-CALDESC:Events for 1st Kirkbymoorside Scouts
REFRESH-INTERVAL;VALUE=DURATION:PT1H
X-Robots-Tag:noindex
X-PUBLISHED-TTL:PT1H
BEGIN:VTIMEZONE
TZID:Europe/London
BEGIN:DAYLIGHT
TZOFFSETFROM:+0000
TZOFFSETTO:+0100
TZNAME:BST
DTSTART:20230326T010000
END:DAYLIGHT
BEGIN:STANDARD
TZOFFSETFROM:+0100
TZOFFSETTO:+0000
TZNAME:GMT
DTSTART:20231029T010000
END:STANDARD
BEGIN:DAYLIGHT
TZOFFSETFROM:+0000
TZOFFSETTO:+0100
TZNAME:BST
DTSTART:20240331T010000
END:DAYLIGHT
BEGIN:STANDARD
TZOFFSETFROM:+0100
TZOFFSETTO:+0000
TZNAME:GMT
DTSTART:20241027T010000
END:STANDARD
BEGIN:DAYLIGHT
TZOFFSETFROM:+0000
TZOFFSETTO:+0100
TZNAME:BST
DTSTART:20250330T010000
END:DAYLIGHT
BEGIN:STANDARD
TZOFFSETFROM:+0100
TZOFFSETTO:+0000
TZNAME:GMT
DTSTART:20251026T010000
END:STANDARD
BEGIN:DAYLIGHT
TZOFFSETFROM:+0000
TZOFFSETTO:+0100
TZNAME:BST
DTSTART:20260329T010000
END:DAYLIGHT
BEGIN:STANDARD
TZOFFSETFROM:+0100
TZOFFSETTO:+0000
TZNAME:GMT
DTSTART:20261025T010000
END:STANDARD
BEGIN:DAYLIGHT
TZOFFSETFROM:+0000
TZOFFSETTO:+0100
TZNAME:BST
DTSTART:20270328T010000
END:DAYLIGHT
BEGIN:STANDARD
TZOFFSETFROM:+0100
TZOFFSETTO:+0000
TZNAME:GMT
DTSTART:20271031T010000
END:STANDARD
END:VTIMEZONE
BEGIN:VEVENT
DTSTART;TZID=Europe/London:20260402T080000
DTEND;TZID=Europe/London:20260406T170000
DTSTAMP:20260420T203604
CREATED:20250424T192541Z
LAST-MODIFIED:20250424T193153Z
UID:1390-1775116800-1775494800@1stkirkbymoorsidescouts.org.uk
SUMMARY:Kirkbymoorside Scarecrow Trail 2026
DESCRIPTION:Our Scarecrow Trail will be back in 2026\, Scarecrow registrations will start from February 1st so get your thinking caps on. \n\n\n\nActivities will include: \n\n\n\n✅Find all the Scarecrows \n\n\n\n✅Complete additional challenge! (For free and get your reward at the hut on Easter Monday) \n\n\n\n✅Vote for your favourite Scarecrow \n\n\n\n✅Attend our fun family day at the 1st Kirkbymoorside Scout Hut on Easter Monday \n\n\n\n🐰🐣Easter Monday \n\n\n\n🐰🐣 at the 1st Kirkbymoorside Scout Hut 12-4 ⚜️ \n\n\n\n🎟️The winning ticket will be drawn for our raffle. \n\n\n\n🏆The winner of the best Scarecrow competition will be announced and presented with a trophy. \n\n\n\n🎨Crafts for the whole family \n\n\n\n🎯 Games \n\n\n\n☕Coffees and other refreshments 🍰Cakes and other treats \n\n\n\n✅Pre-loved games stall \n\n\n\nSign up below for event updates.\n\n\n\n← Back Thank you for your response. ✨\n\n\n					\n						\n							\n							\n						\n						\n						\n						\n						\n							\n								\n									\n										\n										\n									\n									\n										\n										\n									\n								\n							\n						\n						\n							\n								\n									\n									\n										\n									\n									\n									\n								\n							\n						\n					\n				\n\n\n\n\nName(required)\n\n \n			\n				\n					\n						\n						\n						\n					\n				\n				\n			 \n	\n\n\n\n\nEmail(required)\n\n \n			\n				\n					\n						\n						\n						\n					\n				\n				\n			 \n	\n\n\n\n\n		 \n		By submitting your information\, you’re giving us permission to email you. You may unsubscribe at any time.\n\n\n			\n				\n					\n						\n						\n						\n					\n				\n				\n				\n\n\n\n				\n					\n				\n				 Keep me updatedSubmitting form\n		\n		\n		\nΔ
URL:https://1stkirkbymoorsidescouts.org.uk/event/kirkbymoorside-scarecrow-trail-2026
LOCATION:1st Kirkbymoorside Scouts Hut\, 4 Manor Vale Lane\, Kirkbymoorside\, North Yorkshire\, YO62 6EG\, United Kingdom
END:VEVENT
BEGIN:VEVENT
DTSTART;TZID=Europe/London:20250417T080000
DTEND;TZID=Europe/London:20250421T170000
DTSTAMP:20260420T203604
CREATED:20240522T134510Z
LAST-MODIFIED:20250417T170303Z
UID:729-1744876800-1745254800@1stkirkbymoorsidescouts.org.uk
SUMMARY:Kirkbymoorside Scarecrow trail 2025 – a great day out in Ryedale
DESCRIPTION:Easter Scarecrow Trail 🐣🐰! \n\n\n\n🗓️Date: 17-21 of April \n\n\n\n📍 Kirkbymoorside \n\n\n\n✅40 Scarecrows again on the map \n\n\n\n🎉🗺️Maps available from:• Daisy Garden Centre • Moorside Store • Something Special Kirkbymoorside • Beadlam Grange Farm shop Maps are only £2 each and come with a raffle ticket. \n\n\n\n✅Find all the Scarecrows \n\n\n\n✅Complete additional challenge! (For free and get your reward at the hut on Easter Monday) \n\n\n\n✅Vote for your favourite Scarecrow \n\n\n\n✅Attend our fun family day at the 1st Kirkbymoorside Scout Hut on Easter Monday \n\n\n\n🐰🐣Easter Monday \n\n\n\n🐰🐣 at the 1st Kirkbymoorside Scout Hut 12-4 ⚜️ \n\n\n\n🎟️The winning ticket will be drawn for our raffle. \n\n\n\n🏆The winner of the best Scarecrow competition will be announced and presented with a trophy. \n\n\n\n🎨Crafts for the whole family \n\n\n\n🎯 Games \n\n\n\n☕Coffees and other refreshments 🍰Cakes and other treats \n\n\n\n✅Pre-loved games stall \n\n\n\nTake part in our fantastic\, family day out for just £2 and support your local Scout Group. \n\n\n\nTerms and conditions (Scarecrow Host)\n\n\n\n\nEntries cost £5.\n\n\n\nYour Scarecrow can be of any design you wish so long as it is suitable for a child audience and the general public.\n\n\n\nYour Scarecrow is to be placed in a location visible to the general public no later than 08:00 on the 17th of April 2025 and it is to remain in place till at least 18:00 on the 21st of April 2025.\n\n\n\nFinish will be at the 1st Kirkbymoorside Scout Hut.  \n\n\n\nApplications close on the 6th of April 2025\n\n\n\n\n\n\n\n\n\n\n\n    \n  \n      Scarecrow Trail Registration 2025 \n      £5.00 \n    Register Now
URL:https://1stkirkbymoorsidescouts.org.uk/event/kirkbymoorside-scarecrow-trail-2025-a-great-day-out-in-ryedale
LOCATION:Kirkbymoorside\, Kirkbymoorside\, North Yorkshire\, YO62 6AT\, United Kingdom
ATTACH;FMTTYPE=image/png:https://1stkirkbymoorsidescouts.org.uk/wp-content/uploads/2024/04/FB-Advert-Scarecrow-2025.png
END:VEVENT
BEGIN:VEVENT
DTSTART;TZID=Europe/London:20241102T160000
DTEND;TZID=Europe/London:20241102T200000
DTSTAMP:20260420T203604
CREATED:20240825T123345Z
LAST-MODIFIED:20241103T195359Z
UID:931-1730563200-1730577600@1stkirkbymoorsidescouts.org.uk
SUMMARY:Kirkbymoorside Bonfire Night
DESCRIPTION:Join us for a unique and enchanting Bonfire Night event hosted by the 1st Kirkbymoorside Scouts! Designed for families with children of all ages in mind. Our Bonfire Night is a fantastic alternative to the usual events making it accessible and enjoyable for families of all kinds\, especially those with sensory needs. This evening promises a magical experience without the loud bangs of traditional fireworks. \n\n\n\n\nSEND Friendly – No loud noises\, calm inviting atmosphere\, optional quiet area with crafts.\n\n\n\nAnimal Friendly – No loud noise\, habitat destruction\, or scattered waste in livestock fields.\n\n\n\nEco Friendly – No scattered waste after traditional fireworks.\n\n\n\n\nEvent Highlights:\n\n\n\n\nMagical Fires: Enjoy the mesmerizing glow of our magical fires\, creating a warm and inviting atmosphere.\n\n\n\nMarshmallow Toasting: Gather around the fire pits to toast marshmallows to perfection. A delightful treat for all ages!\n\n\n\nSilent Disco: Dance the night away with our silent disco\, where you can groove to your favorite tunes through wireless headphones\, ensuring a fun and sensory-friendly experience.\n\n\n\nDelicious Food: Savour a variety of tasty food options available throughout the evening\, perfect for keeping everyone fuelled and happy.\n\n\n\nSparkling Craft: This hands-on project is perfect for all ages and adds a personal touch to the evening’s festivities. You can on the night take part in our craft activities for £1 per participant adding magic to the celebration. It’s a wonderful way to bring everyone together and create lasting memories.\n\n\n\n\nBonfire Ticket includes (£5 Per Child – includes one free Adult / £3 Per additional adult):\n\n\n\n\nCommemorative patch\n\n\n\nMagical fire sachet\n\n\n\nGiant Marshmallow\n\n\n\n\nSilent Disco Ticket includes (£3 Per participant):\n\n\n\n\nHeadset rental for 30 minutes\n\n\n\n\nThis event is the perfect opportunity for families to come together and enjoy the spirit of Bonfire Night in a safe and inclusive environment.  \n\n\n\nWe look forward to seeing you there for an evening of fun\, laughter\, and community spirit!
URL:https://1stkirkbymoorsidescouts.org.uk/event/kirkbymoorside-bonfire-night
LOCATION:1st Kirkbymoorside Scouts Hut\, 4 Manor Vale Lane\, Kirkbymoorside\, North Yorkshire\, YO62 6EG\, United Kingdom
ATTACH;FMTTYPE=image/png:https://1stkirkbymoorsidescouts.org.uk/wp-content/uploads/2024/08/Bonfire-Feature.png
END:VEVENT
BEGIN:VEVENT
DTSTART;TZID=Europe/London:20240629T110000
DTEND;TZID=Europe/London:20240629T140000
DTSTAMP:20260420T203604
CREATED:20240522T182122Z
LAST-MODIFIED:20240612T201641Z
UID:717-1719658800-1719669600@1stkirkbymoorsidescouts.org.uk
SUMMARY:AGM 2024
DESCRIPTION:Dear Beavers\, Cubs\, Scouts and Parents/Carers\, \n\n\n\nYou’re Invited! \n\n\n\nJoin us for an adventurous day as we host our Annual General Meeting (AGM) 2024 filled with fun\, food\, and friendly competition! \n\n\n\nAgenda: \n\n\n\n\n11:00: Welcome & AGM\n\n\n\n11:40: BBQ / Tomahawk Throwing Challenge\n\n\n\n13:00: Rounders Game\n\n\n\n14:00: Goodbye \n\n\n\n\nCome along to celebrate our achievements\, enjoy a delicious BBQ\, test your aim with tomahawk throwing\, and round off the day with a spirited game of rounders. It’s a perfect opportunity to bond\, share stories\, and create memories. \n\n\n\nLooking forward to a day of Scout spirit and camaraderie! \n\n\n\nIf you have any Dietary requirements please reply to your ticket confirmation email to let us know. \n\n\n\nYours in Scouting\,The 1st Kirkbymoorside Scouts Group
URL:https://1stkirkbymoorsidescouts.org.uk/event/agm-2024
LOCATION:Kirkbymoorside Primary school\, West Fields\, Kirkbymoorside\, North Yorkshire\, YO62 6AG\, United Kingdom
CATEGORIES:AGM
ATTACH;FMTTYPE=image/png:https://1stkirkbymoorsidescouts.org.uk/wp-content/uploads/2024/05/AGM-2024_20240521_183929_0000-e1716402529792.png
END:VEVENT
END:VCALENDAR